BEGIN:VCALENDAR
VERSION:2.0
PRODID:-//wp-events-plugin.com//7.2.3.1//EN
TZID:Europe/Zurich
X-WR-TIMEZONE:Europe/Zurich
BEGIN:VEVENT
UID:1@ape-haut-talent.ch
DTSTART;TZID=Europe/Zurich:20221201T200000
DTEND;TZID=Europe/Zurich:20221201T220000
DTSTAMP:20221130T193627Z
URL:https://www.ape-haut-talent.ch/evenements/assemblee-constitutive/
SUMMARY:Assemblée constitutive
DESCRIPTION:Venez participer à l'assemblée constitutive de l'association 
 des parents d'élèves du Haut-Talent. L'assemblée constitutive sera suiv
 ie d'un apéritif
ATTACH;FMTTYPE=image/jpeg:https://www.ape-haut-talent.ch/wp-content/upload
 s/2022/09/Flyer_creation_APE_Haut_Talent_20220928.png
CATEGORIES:Assemblées générales
LOCATION:Salle de musique du collège de la Combe\, Chemin de la Combe 5\, 
 1053 Cugy\, Suisse
X-APPLE-STRUCTURED-LOCATION;VALUE=URI;X-ADDRESS=Chemin de la Combe 5\, 1053
  Cugy\, Suisse;X-APPLE-RADIUS=100;X-TITLE=Salle de musique du collège de 
 la Combe:geo:0,0
END:VEVENT
BEGIN:VTIMEZONE
TZID:Europe/Zurich
X-LIC-LOCATION:Europe/Zurich
BEGIN:STANDARD
DTSTART:20221030T020000
TZOFFSETFROM:+0200
TZOFFSETTO:+0100
TZNAME:CET
END:STANDARD
END:VTIMEZONE
END:VCALENDAR